BEGIN:VCALENDAR
VERSION:2.0
PRODID:-//Jim Buttress - ECPv6.15.11//NONSGML v1.0//EN
CALSCALE:GREGORIAN
METHOD:PUBLISH
X-ORIGINAL-URL:https://jimbuttress.co.uk
X-WR-CALDESC:Events for Jim Buttress
REFRESH-INTERVAL;VALUE=DURATION:PT1H
X-Robots-Tag:noindex
X-PUBLISHED-TTL:PT1H
BEGIN:VTIMEZONE
TZID:UTC
BEGIN:STANDARD
TZOFFSETFROM:+0000
TZOFFSETTO:+0000
TZNAME:UTC
DTSTART:20240101T000000
END:STANDARD
END:VTIMEZONE
BEGIN:VEVENT
DTSTART;TZID=UTC:20250906T140000
DTEND;TZID=UTC:20250906T160000
DTSTAMP:20260419T220909
CREATED:20250830T092335Z
LAST-MODIFIED:20250830T092335Z
UID:1627-1757167200-1757174400@jimbuttress.co.uk
SUMMARY:Judging Shorne Cottage Garden Society Autumn Show Shorne Village Hall Kent
DESCRIPTION:
URL:https://jimbuttress.co.uk/event/judging-shorne-cottage-garden-society-autumn-show-shorne-village-hall-kent/
END:VEVENT
BEGIN:VEVENT
DTSTART;VALUE=DATE:20250910
DTEND;VALUE=DATE:20250911
DTSTAMP:20260419T220909
CREATED:20250830T092541Z
LAST-MODIFIED:20250830T092541Z
UID:1629-1757462400-1757548799@jimbuttress.co.uk
SUMMARY:Guest London Childrens Flower Society 80th Anniversary Garden Party\, Lullingstone World Garden\, Lullingstone Castle\, Eynsford\, DA4 OJa
DESCRIPTION:
URL:https://jimbuttress.co.uk/event/guest-london-childrens-flower-society-80th-anniversary-garden-party-lullingstone-world-garden-lullingstone-castle-eynsford-da4-oja/
END:VEVENT
BEGIN:VEVENT
DTSTART;TZID=UTC:20250913T140000
DTEND;TZID=UTC:20250913T160000
DTSTAMP:20260419T220909
CREATED:20250830T092723Z
LAST-MODIFIED:20250830T092723Z
UID:1631-1757772000-1757779200@jimbuttress.co.uk
SUMMARY:Judging Biggin Hill Horticultural Society Autumn Show\, St Marks Church Hall\, Church Rd\, Biggin Hill TN16 3LB
DESCRIPTION:
URL:https://jimbuttress.co.uk/event/judging-biggin-hill-horticultural-society-autumn-show-st-marks-church-hall-church-rd-biggin-hill-tn16-3lb/
END:VEVENT
BEGIN:VEVENT
DTSTART;TZID=UTC:20250917T190000
DTEND;TZID=UTC:20250917T200000
DTSTAMP:20260419T220909
CREATED:20250830T092827Z
LAST-MODIFIED:20250830T092827Z
UID:1633-1758135600-1758139200@jimbuttress.co.uk
SUMMARY:Compere Ruxley in Bloom Awards Ceremony\, Ruxley Garden Centre Sidcup Kent
DESCRIPTION:
URL:https://jimbuttress.co.uk/event/compere-ruxley-in-bloom-awards-ceremony-ruxley-garden-centre-sidcup-kent/
END:VEVENT
END:VCALENDAR