BEGIN:VCALENDAR
VERSION:2.0
PRODID:-//Jim Buttress - ECPv6.15.11//NONSGML v1.0//EN
CALSCALE:GREGORIAN
METHOD:PUBLISH
X-ORIGINAL-URL:https://jimbuttress.co.uk
X-WR-CALDESC:Events for Jim Buttress
REFRESH-INTERVAL;VALUE=DURATION:PT1H
X-Robots-Tag:noindex
X-PUBLISHED-TTL:PT1H
BEGIN:VTIMEZONE
TZID:UTC
BEGIN:STANDARD
TZOFFSETFROM:+0000
TZOFFSETTO:+0000
TZNAME:UTC
DTSTART:20240101T000000
END:STANDARD
END:VTIMEZONE
BEGIN:VEVENT
DTSTART;VALUE=DATE:20250707
DTEND;VALUE=DATE:20250709
DTSTAMP:20260419T183958
CREATED:20250629T132001Z
LAST-MODIFIED:20250629T132001Z
UID:1607-1751846400-1752019199@jimbuttress.co.uk
SUMMARY:Judging School Gardens and Allotments\, Ruxley in Bloom
DESCRIPTION:
URL:https://jimbuttress.co.uk/event/judging-school-gardens-and-allotments-ruxley-in-bloom/
END:VEVENT
BEGIN:VEVENT
DTSTART;TZID=UTC:20250712T140000
DTEND;TZID=UTC:20250712T160000
DTSTAMP:20260419T183958
CREATED:20250629T132209Z
LAST-MODIFIED:20250629T132209Z
UID:1609-1752328800-1752336000@jimbuttress.co.uk
SUMMARY:Judging Bigging Hill Horticultural Summer Show\, St Marks Church Hall\, Church Rd\, Biggin Hill\, TN16 3LB
DESCRIPTION:
URL:https://jimbuttress.co.uk/event/judging-bigging-hill-horticultural-summer-show-st-marks-church-hall-church-rd-biggin-hill-tn16-3lb/
END:VEVENT
BEGIN:VEVENT
DTSTART;VALUE=DATE:20250713
DTEND;VALUE=DATE:20250714
DTSTAMP:20260419T183958
CREATED:20250629T132327Z
LAST-MODIFIED:20250629T132642Z
UID:1611-1752364800-1752451199@jimbuttress.co.uk
SUMMARY:Celebrate Tom Hartdyke's 25 Years since kidnapped in 2000\, World Garden\, Lullingstone Castle DA4 0JA
DESCRIPTION:
URL:https://jimbuttress.co.uk/event/celebrate-tom-hartdykes-25-years-since-kidnapped-in-2000-world-garden-lullingstone-castle-da4-0ja/
END:VEVENT
BEGIN:VEVENT
DTSTART;VALUE=DATE:20250724
DTEND;VALUE=DATE:20250725
DTSTAMP:20260419T183958
CREATED:20250629T132436Z
LAST-MODIFIED:20250629T132436Z
UID:1613-1753315200-1753401599@jimbuttress.co.uk
SUMMARY:Chairman Garden Committeee\, Fullers Mill\, West Stow\, Bury St Edmunds\, IP28 6HD
DESCRIPTION:
URL:https://jimbuttress.co.uk/event/chairman-garden-committeee-fullers-mill-west-stow-bury-st-edmunds-ip28-6hd/
END:VEVENT
END:VCALENDAR