BEGIN:VCALENDAR
VERSION:2.0
PRODID:-//Jim Buttress - ECPv6.15.11//NONSGML v1.0//EN
CALSCALE:GREGORIAN
METHOD:PUBLISH
X-ORIGINAL-URL:https://jimbuttress.co.uk
X-WR-CALDESC:Events for Jim Buttress
REFRESH-INTERVAL;VALUE=DURATION:PT1H
X-Robots-Tag:noindex
X-PUBLISHED-TTL:PT1H
BEGIN:VTIMEZONE
TZID:UTC
BEGIN:STANDARD
TZOFFSETFROM:+0000
TZOFFSETTO:+0000
TZNAME:UTC
DTSTART:20240101T000000
END:STANDARD
END:VTIMEZONE
BEGIN:VEVENT
DTSTART;TZID=UTC:20250606T180000
DTEND;TZID=UTC:20250606T210000
DTSTAMP:20260419T170432
CREATED:20250602T073148Z
LAST-MODIFIED:20250602T073148Z
UID:1591-1749232800-1749243600@jimbuttress.co.uk
SUMMARY:Talk "Launch of a Jewel in the Forest\, Book showcasing selection of plants Fullers Mill Garde\, West Stow\, Bury St Edmunds\, IP28 6HD
DESCRIPTION:
URL:https://jimbuttress.co.uk/event/talk-launch-of-a-jewel-in-the-forest-book-showcasing-selection-of-plants-fullers-mill-garde-west-stow-bury-st-edmunds-ip28-6hd/
END:VEVENT
BEGIN:VEVENT
DTSTART;TZID=UTC:20250608T140000
DTEND;TZID=UTC:20250608T160000
DTSTAMP:20260419T170432
CREATED:20250602T073335Z
LAST-MODIFIED:20250602T073335Z
UID:1593-1749391200-1749398400@jimbuttress.co.uk
SUMMARY:Party to Celebrate the Reinstatement Of Jack Wood House Garden by Friends of Oxleas Woods
DESCRIPTION:
URL:https://jimbuttress.co.uk/event/party-to-celebrate-the-reinstatement-of-jack-wood-house-garden-by-friends-of-oxleas-woods/
END:VEVENT
BEGIN:VEVENT
DTSTART;TZID=UTC:20250612T103000
DTEND;TZID=UTC:20250612T123000
DTSTAMP:20260419T170432
CREATED:20250602T073628Z
LAST-MODIFIED:20250602T073628Z
UID:1596-1749724200-1749731400@jimbuttress.co.uk
SUMMARY:Chair Gardeners Question Time\, Garden Panel\, Losely Park\, Guildford
DESCRIPTION:
URL:https://jimbuttress.co.uk/event/chair-gardeners-question-time-garden-panel-losely-park-guildford/
END:VEVENT
BEGIN:VEVENT
DTSTART;TZID=UTC:20250614T150000
DTEND;TZID=UTC:20250614T170000
DTSTAMP:20260419T170432
CREATED:20250602T073748Z
LAST-MODIFIED:20250602T073748Z
UID:1598-1749913200-1749920400@jimbuttress.co.uk
SUMMARY:Judging\, Shorne Cottage Garden Society\, Summer Show\, Shorne Village Hall\, Shorne\, Kent
DESCRIPTION:
URL:https://jimbuttress.co.uk/event/judging-shorne-cottage-garden-society-summer-show-shorne-village-hall-shorne-kent/
END:VEVENT
BEGIN:VEVENT
DTSTART;TZID=UTC:20250621T190000
DTEND;TZID=UTC:20250621T210000
DTSTAMP:20260419T170432
CREATED:20250602T073852Z
LAST-MODIFIED:20250602T073852Z
UID:1600-1750532400-1750539600@jimbuttress.co.uk
SUMMARY:Judging\, Rose Show\, Southfleet Gardeners\, Village Hall\, Southfleet
DESCRIPTION:
URL:https://jimbuttress.co.uk/event/judging-rose-show-southfleet-gardeners-village-hall-southfleet/
END:VEVENT
END:VCALENDAR