BEGIN:VCALENDAR
VERSION:2.0
PRODID:-//Jim Buttress - ECPv6.15.11//NONSGML v1.0//EN
CALSCALE:GREGORIAN
METHOD:PUBLISH
X-WR-CALNAME:Jim Buttress
X-ORIGINAL-URL:https://jimbuttress.co.uk
X-WR-CALDESC:Events for Jim Buttress
REFRESH-INTERVAL;VALUE=DURATION:PT1H
X-Robots-Tag:noindex
X-PUBLISHED-TTL:PT1H
BEGIN:VTIMEZONE
TZID:UTC
BEGIN:STANDARD
TZOFFSETFROM:+0000
TZOFFSETTO:+0000
TZNAME:UTC
DTSTART:20240101T000000
END:STANDARD
END:VTIMEZONE
BEGIN:VEVENT
DTSTART;TZID=UTC:20250402T133000
DTEND;TZID=UTC:20250402T153000
DTSTAMP:20260419T135915
CREATED:20250331T160402Z
LAST-MODIFIED:20250331T160402Z
UID:1576-1743600600-1743607800@jimbuttress.co.uk
SUMMARY:Talk "The World Garden Lullingstone Castle" Rayleigh Grange U3A\, Community Centre\, Little Wheatley Chase\, Rayleigh SS6 9EH
DESCRIPTION:
URL:https://jimbuttress.co.uk/event/talk-the-world-garden-lullingstone-castle-rayleigh-grange-u3a-community-centre-little-wheatley-chase-rayleigh-ss6-9eh/
END:VEVENT
BEGIN:VEVENT
DTSTART;TZID=UTC:20250405T150000
DTEND;TZID=UTC:20250405T170000
DTSTAMP:20260419T135915
CREATED:20250331T160548Z
LAST-MODIFIED:20250331T160548Z
UID:1578-1743865200-1743872400@jimbuttress.co.uk
SUMMARY:Judging Spring Show\, Shorne Cottage Garden Society\, Village Hall\, Shorne DA12 3EB
DESCRIPTION:
URL:https://jimbuttress.co.uk/event/judging-spring-show-shorne-cottage-garden-society-village-hall-shorne-da12-3eb/
END:VEVENT
BEGIN:VEVENT
DTSTART;VALUE=DATE:20250407
DTEND;VALUE=DATE:20250408
DTSTAMP:20260419T135915
CREATED:20250331T160646Z
LAST-MODIFIED:20250331T160646Z
UID:1580-1743984000-1744070399@jimbuttress.co.uk
SUMMARY:Launch Ruxley in Bloom 2025\, Ruxley Manor Garden Centre\, Sidcup\, Kent
DESCRIPTION:
URL:https://jimbuttress.co.uk/event/launch-ruxley-in-bloom-2025-ruxley-manor-garden-centre-sidcup-kent/
END:VEVENT
END:VCALENDAR