BEGIN:VCALENDAR
VERSION:2.0
PRODID:-//Jim Buttress - ECPv6.15.11//NONSGML v1.0//EN
CALSCALE:GREGORIAN
METHOD:PUBLISH
X-ORIGINAL-URL:https://jimbuttress.co.uk
X-WR-CALDESC:Events for Jim Buttress
REFRESH-INTERVAL;VALUE=DURATION:PT1H
X-Robots-Tag:noindex
X-PUBLISHED-TTL:PT1H
BEGIN:VTIMEZONE
TZID:UTC
BEGIN:STANDARD
TZOFFSETFROM:+0000
TZOFFSETTO:+0000
TZNAME:UTC
DTSTART:20240101T000000
END:STANDARD
END:VTIMEZONE
BEGIN:VEVENT
DTSTART;TZID=UTC:20250304T140000
DTEND;TZID=UTC:20250304T153000
DTSTAMP:20260419T122223
CREATED:20250303T200140Z
LAST-MODIFIED:20250303T200140Z
UID:1560-1741096800-1741102200@jimbuttress.co.uk
SUMMARY:Talk "75 Years in Horticulture" Probus Club of Beckenham\, Oakley House\, Bromley BR2 8HA
DESCRIPTION:
URL:https://jimbuttress.co.uk/event/talk-75-years-in-horticulture-probus-club-of-beckenham-oakley-house-bromley-br2-8ha/
END:VEVENT
BEGIN:VEVENT
DTSTART;TZID=UTC:20250307T143000
DTEND;TZID=UTC:20250307T170000
DTSTAMP:20260419T122223
CREATED:20250303T200334Z
LAST-MODIFIED:20250303T200334Z
UID:1562-1741357800-1741366800@jimbuttress.co.uk
SUMMARY:Talk "75 Years in Horticulture" Sandhurst Friendship Club\, Old School Hall\, Back Rd\, Sandhurst\, TN18 5JS
DESCRIPTION:
URL:https://jimbuttress.co.uk/event/talk-75-years-in-horticulture-sandhurst-friendship-club-old-school-hall-back-rd-sandhurst-tn18-5js/
END:VEVENT
BEGIN:VEVENT
DTSTART;TZID=UTC:20250322T140000
DTEND;TZID=UTC:20250322T160000
DTSTAMP:20260419T122223
CREATED:20250303T200508Z
LAST-MODIFIED:20250303T200508Z
UID:1564-1742652000-1742659200@jimbuttress.co.uk
SUMMARY:Judge\, Southfleet Gardeners Spring Show\, Village Hall\, Southfleet\, Kent
DESCRIPTION:
URL:https://jimbuttress.co.uk/event/judge-southfleet-gardeners-spring-show-village-hall-southfleet-kent/
END:VEVENT
BEGIN:VEVENT
DTSTART;TZID=UTC:20250326T140000
DTEND;TZID=UTC:20250326T160000
DTSTAMP:20260419T122223
CREATED:20250303T200639Z
LAST-MODIFIED:20250303T200639Z
UID:1566-1742997600-1743004800@jimbuttress.co.uk
SUMMARY:Talk "Greenwich Park"  Hadara\, Church Hall\, Ash Rd\, Hartley Kent.
DESCRIPTION:
URL:https://jimbuttress.co.uk/event/talk-greenwich-park-hadara-church-hall-ash-rd-hartley-kent/
END:VEVENT
BEGIN:VEVENT
DTSTART;TZID=UTC:20250327T100000
DTEND;TZID=UTC:20250327T123000
DTSTAMP:20260419T122223
CREATED:20250303T200809Z
LAST-MODIFIED:20250304T154327Z
UID:1568-1743069600-1743078600@jimbuttress.co.uk
SUMMARY:Chairman Fullers Mill\, Westow Bury St Edmonds\, Suffolk\, IP28 6HD
DESCRIPTION:
URL:https://jimbuttress.co.uk/event/chairman-fullers-mill-westow-bury-st-edmonds-suffolk-ip28-6hd/
END:VEVENT
END:VCALENDAR