BEGIN:VCALENDAR
VERSION:2.0
PRODID:-//Jim Buttress - ECPv6.15.11//NONSGML v1.0//EN
CALSCALE:GREGORIAN
METHOD:PUBLISH
X-ORIGINAL-URL:https://jimbuttress.co.uk
X-WR-CALDESC:Events for Jim Buttress
REFRESH-INTERVAL;VALUE=DURATION:PT1H
X-Robots-Tag:noindex
X-PUBLISHED-TTL:PT1H
BEGIN:VTIMEZONE
TZID:UTC
BEGIN:STANDARD
TZOFFSETFROM:+0000
TZOFFSETTO:+0000
TZNAME:UTC
DTSTART:20230101T000000
END:STANDARD
END:VTIMEZONE
BEGIN:VEVENT
DTSTART;TZID=UTC:20240406T150000
DTEND;TZID=UTC:20240406T170000
DTSTAMP:20260419T125212
CREATED:20240331T115011Z
LAST-MODIFIED:20240331T115011Z
UID:1427-1712415600-1712422800@jimbuttress.co.uk
SUMMARY:Judging\, Shorne Cottage Garden Spring Show\, Village Hall Shorne\, Kent
DESCRIPTION:
URL:https://jimbuttress.co.uk/event/judging-shorne-cottage-garden-spring-show-village-hall-shorne-kent/
END:VEVENT
BEGIN:VEVENT
DTSTART;VALUE=DATE:20240409
DTEND;VALUE=DATE:20240410
DTSTAMP:20260419T125212
CREATED:20240331T115120Z
LAST-MODIFIED:20240331T115120Z
UID:1429-1712620800-1712707199@jimbuttress.co.uk
SUMMARY:Chairing Garden Committee\, Fullers Mill Garden\, West Stow\, Bury At Edmunds
DESCRIPTION:
URL:https://jimbuttress.co.uk/event/chairing-garden-committee-fullers-mill-garden-west-stow-bury-at-edmunds/
END:VEVENT
BEGIN:VEVENT
DTSTART;TZID=UTC:20240410T140000
DTEND;TZID=UTC:20240410T160000
DTSTAMP:20260419T125212
CREATED:20240331T115255Z
LAST-MODIFIED:20240331T115255Z
UID:1431-1712757600-1712764800@jimbuttress.co.uk
SUMMARY:Talk "70 Years in Horticulture" Cranleigh U3A Garden Club\, The Bandroom\, Village Way Cranleigh\, GU6 8AF
DESCRIPTION:
URL:https://jimbuttress.co.uk/event/talk-70-years-in-horticulture-cranleigh-u3a-garden-club-the-bandroom-village-way-cranleigh-gu6-8af/
END:VEVENT
BEGIN:VEVENT
DTSTART;TZID=UTC:20240413T100000
DTEND;TZID=UTC:20240414T160000
DTSTAMP:20260419T125212
CREATED:20240331T115409Z
LAST-MODIFIED:20240331T115409Z
UID:1433-1713002400-1713110400@jimbuttress.co.uk
SUMMARY:Launch Ruxley in Bloom\, Ruxley Garden Centre\, Sidcup\, Kent
DESCRIPTION:
URL:https://jimbuttress.co.uk/event/launch-ruxley-in-bloom-ruxley-garden-centre-sidcup-kent/
END:VEVENT
BEGIN:VEVENT
DTSTART;VALUE=DATE:20240418
DTEND;VALUE=DATE:20240419
DTSTAMP:20260419T125212
CREATED:20240331T115600Z
LAST-MODIFIED:20240331T115600Z
UID:1435-1713398400-1713484799@jimbuttress.co.uk
SUMMARY:Talk "World Garden Lullingstone Castle" Edenbridge Men's Probus\, Rickards Hall\, 72a High St\, Edenbridge\, Kent.
DESCRIPTION:
URL:https://jimbuttress.co.uk/event/talk-world-garden-lullingstone-castle-edenbridge-mens-probus-rickards-hall-72a-high-st-edenbridge-kent/
END:VEVENT
BEGIN:VEVENT
DTSTART;TZID=UTC:20240425T110000
DTEND;TZID=UTC:20240425T130000
DTSTAMP:20260419T125212
CREATED:20240331T115803Z
LAST-MODIFIED:20240331T115803Z
UID:1437-1714042800-1714050000@jimbuttress.co.uk
SUMMARY:Talk "70 Years in Horticulture" Civil Service Fellowship (Eltham)\, United Reformed Church\, 1 Court Rd\, Eltham\, SE9 5AD
DESCRIPTION:
URL:https://jimbuttress.co.uk/event/talk-70-years-in-horticulture-civil-service-fellowship-eltham-united-reformed-church-1-court-rd-eltham-se9-5ad/
END:VEVENT
END:VCALENDAR