BEGIN:VCALENDAR
VERSION:2.0
PRODID:-//Jim Buttress - ECPv6.15.11//NONSGML v1.0//EN
CALSCALE:GREGORIAN
METHOD:PUBLISH
X-ORIGINAL-URL:https://jimbuttress.co.uk
X-WR-CALDESC:Events for Jim Buttress
REFRESH-INTERVAL;VALUE=DURATION:PT1H
X-Robots-Tag:noindex
X-PUBLISHED-TTL:PT1H
BEGIN:VTIMEZONE
TZID:UTC
BEGIN:STANDARD
TZOFFSETFROM:+0000
TZOFFSETTO:+0000
TZNAME:UTC
DTSTART:20230101T000000
END:STANDARD
END:VTIMEZONE
BEGIN:VEVENT
DTSTART;TZID=UTC:20240311T100000
DTEND;TZID=UTC:20240311T120000
DTSTAMP:20260419T142655
CREATED:20240228T105100Z
LAST-MODIFIED:20240228T105100Z
UID:1418-1710151200-1710158400@jimbuttress.co.uk
SUMMARY:Talk "70 Years in Horticulture"\, Clifara Garden Club\, Cliffe Community Centre\, Parkside\, Cliffe Woods\, Kent
DESCRIPTION:
URL:https://jimbuttress.co.uk/event/talk-70-years-in-horticulture-clifara-garden-club-cliffe-community-centre-parkside-cliffe-woods-kent/
END:VEVENT
BEGIN:VEVENT
DTSTART;TZID=UTC:20240313T140000
DTEND;TZID=UTC:20240313T160000
DTSTAMP:20260419T142655
CREATED:20240228T105212Z
LAST-MODIFIED:20240228T105212Z
UID:1420-1710338400-1710345600@jimbuttress.co.uk
SUMMARY:Talk "Greenwich Park" Shadar\, All Saints Hall\, Ash Road\, Hartley\, DA3 8DB
DESCRIPTION:
URL:https://jimbuttress.co.uk/event/talk-greenwich-park-shadar-all-saints-hall-ash-road-hartley-da3-8db/
END:VEVENT
BEGIN:VEVENT
DTSTART;VALUE=DATE:20240323
DTEND;VALUE=DATE:20240324
DTSTAMP:20260419T142655
CREATED:20240228T105347Z
LAST-MODIFIED:20240228T105347Z
UID:1422-1711152000-1711238399@jimbuttress.co.uk
SUMMARY:Judging\, Southfleet Gardeners Spring Show\, Village Hall\, Southfleet\, Kent
DESCRIPTION:
URL:https://jimbuttress.co.uk/event/judging-southfleet-gardeners-spring-show-village-hall-southfleet-kent/
END:VEVENT
END:VCALENDAR