BEGIN:VCALENDAR
VERSION:2.0
PRODID:-//Jim Buttress - ECPv6.15.11//NONSGML v1.0//EN
CALSCALE:GREGORIAN
METHOD:PUBLISH
X-ORIGINAL-URL:https://jimbuttress.co.uk
X-WR-CALDESC:Events for Jim Buttress
REFRESH-INTERVAL;VALUE=DURATION:PT1H
X-Robots-Tag:noindex
X-PUBLISHED-TTL:PT1H
BEGIN:VTIMEZONE
TZID:UTC
BEGIN:STANDARD
TZOFFSETFROM:+0000
TZOFFSETTO:+0000
TZNAME:UTC
DTSTART:20240101T000000
END:STANDARD
END:VTIMEZONE
BEGIN:VEVENT
DTSTART;VALUE=DATE:20250910
DTEND;VALUE=DATE:20250911
DTSTAMP:20260419T235111
CREATED:20250830T092541Z
LAST-MODIFIED:20250830T092541Z
UID:1629-1757462400-1757548799@jimbuttress.co.uk
SUMMARY:Guest London Childrens Flower Society 80th Anniversary Garden Party\, Lullingstone World Garden\, Lullingstone Castle\, Eynsford\, DA4 OJa
DESCRIPTION:
URL:https://jimbuttress.co.uk/event/guest-london-childrens-flower-society-80th-anniversary-garden-party-lullingstone-world-garden-lullingstone-castle-eynsford-da4-oja/
END:VEVENT
END:VCALENDAR