BEGIN:VCALENDAR
VERSION:2.0
PRODID:-//Jim Buttress - ECPv6.15.11//NONSGML v1.0//EN
CALSCALE:GREGORIAN
METHOD:PUBLISH
X-ORIGINAL-URL:https://jimbuttress.co.uk
X-WR-CALDESC:Events for Jim Buttress
REFRESH-INTERVAL;VALUE=DURATION:PT1H
X-Robots-Tag:noindex
X-PUBLISHED-TTL:PT1H
BEGIN:VTIMEZONE
TZID:UTC
BEGIN:STANDARD
TZOFFSETFROM:+0000
TZOFFSETTO:+0000
TZNAME:UTC
DTSTART:20240101T000000
END:STANDARD
END:VTIMEZONE
BEGIN:VEVENT
DTSTART;TZID=UTC:20250712T140000
DTEND;TZID=UTC:20250712T160000
DTSTAMP:20260419T202340
CREATED:20250629T132209Z
LAST-MODIFIED:20250629T132209Z
UID:1609-1752328800-1752336000@jimbuttress.co.uk
SUMMARY:Judging Bigging Hill Horticultural Summer Show\, St Marks Church Hall\, Church Rd\, Biggin Hill\, TN16 3LB
DESCRIPTION:
URL:https://jimbuttress.co.uk/event/judging-bigging-hill-horticultural-summer-show-st-marks-church-hall-church-rd-biggin-hill-tn16-3lb/
END:VEVENT
END:VCALENDAR