BEGIN:VCALENDAR
VERSION:2.0
PRODID:-//Jim Buttress - ECPv6.15.11//NONSGML v1.0//EN
CALSCALE:GREGORIAN
METHOD:PUBLISH
X-WR-CALNAME:Jim Buttress
X-ORIGINAL-URL:https://jimbuttress.co.uk
X-WR-CALDESC:Events for Jim Buttress
REFRESH-INTERVAL;VALUE=DURATION:PT1H
X-Robots-Tag:noindex
X-PUBLISHED-TTL:PT1H
BEGIN:VTIMEZONE
TZID:UTC
BEGIN:STANDARD
TZOFFSETFROM:+0000
TZOFFSETTO:+0000
TZNAME:UTC
DTSTART:20240101T000000
END:STANDARD
END:VTIMEZONE
BEGIN:VEVENT
DTSTART;TZID=UTC:20250606T180000
DTEND;TZID=UTC:20250606T210000
DTSTAMP:20260419T183843
CREATED:20250602T073148Z
LAST-MODIFIED:20250602T073148Z
UID:1591-1749232800-1749243600@jimbuttress.co.uk
SUMMARY:Talk "Launch of a Jewel in the Forest\, Book showcasing selection of plants Fullers Mill Garde\, West Stow\, Bury St Edmunds\, IP28 6HD
DESCRIPTION:
URL:https://jimbuttress.co.uk/event/talk-launch-of-a-jewel-in-the-forest-book-showcasing-selection-of-plants-fullers-mill-garde-west-stow-bury-st-edmunds-ip28-6hd/
END:VEVENT
END:VCALENDAR