BEGIN:VCALENDAR
VERSION:2.0
PRODID:-//Jim Buttress - ECPv6.15.11//NONSGML v1.0//EN
CALSCALE:GREGORIAN
METHOD:PUBLISH
X-ORIGINAL-URL:https://jimbuttress.co.uk
X-WR-CALDESC:Events for Jim Buttress
REFRESH-INTERVAL;VALUE=DURATION:PT1H
X-Robots-Tag:noindex
X-PUBLISHED-TTL:PT1H
BEGIN:VTIMEZONE
TZID:UTC
BEGIN:STANDARD
TZOFFSETFROM:+0000
TZOFFSETTO:+0000
TZNAME:UTC
DTSTART:20230101T000000
END:STANDARD
END:VTIMEZONE
BEGIN:VEVENT
DTSTART;VALUE=DATE:20240519
DTEND;VALUE=DATE:20240521
DTSTAMP:20260419T125119
CREATED:20240430T144030Z
LAST-MODIFIED:20240430T144058Z
UID:1445-1716076800-1716249599@jimbuttress.co.uk
SUMMARY:Judging RHS Chelsea Flower Show\, Royal Hospital Rd\, SW3 4SR
DESCRIPTION:
URL:https://jimbuttress.co.uk/event/judging-rhs-chelsea-flower-show-royal-hospital-rd-sw3-4sr/
END:VEVENT
END:VCALENDAR