BEGIN:VCALENDAR
VERSION:2.0
PRODID:-//Jim Buttress - ECPv6.15.11//NONSGML v1.0//EN
CALSCALE:GREGORIAN
METHOD:PUBLISH
X-ORIGINAL-URL:https://jimbuttress.co.uk
X-WR-CALDESC:Events for Jim Buttress
REFRESH-INTERVAL;VALUE=DURATION:PT1H
X-Robots-Tag:noindex
X-PUBLISHED-TTL:PT1H
BEGIN:VTIMEZONE
TZID:UTC
BEGIN:STANDARD
TZOFFSETFROM:+0000
TZOFFSETTO:+0000
TZNAME:UTC
DTSTART:20230101T000000
END:STANDARD
END:VTIMEZONE
BEGIN:VEVENT
DTSTART;TZID=UTC:20240220T143000
DTEND;TZID=UTC:20240220T163000
DTSTAMP:20260419T173814
CREATED:20240128T140507Z
LAST-MODIFIED:20240128T140507Z
UID:1405-1708439400-1708446600@jimbuttress.co.uk
SUMMARY:Talk "Central Royal Parks"\, Midhurst U3A\, Midhurst Methodist Hall\, Midhurst GU29 9DU
DESCRIPTION:
URL:https://jimbuttress.co.uk/event/talk-central-royal-parks-midhurst-u3a-midhurst-methodist-hall-midhurst-gu29-9du/
END:VEVENT
END:VCALENDAR